BEGIN:VCALENDAR
VERSION:2.0
PRODID:-//Lakeway Photography Club - ECPv6.15.20//NONSGML v1.0//EN
CALSCALE:GREGORIAN
METHOD:PUBLISH
X-ORIGINAL-URL:https://lakewayphotographyclub.com
X-WR-CALDESC:Events for Lakeway Photography Club
REFRESH-INTERVAL;VALUE=DURATION:PT1H
X-Robots-Tag:noindex
X-PUBLISHED-TTL:PT1H
BEGIN:VTIMEZONE
TZID:America/Chicago
BEGIN:DAYLIGHT
TZOFFSETFROM:-0600
TZOFFSETTO:-0500
TZNAME:CDT
DTSTART:20240310T080000
END:DAYLIGHT
BEGIN:STANDARD
TZOFFSETFROM:-0500
TZOFFSETTO:-0600
TZNAME:CST
DTSTART:20241103T070000
END:STANDARD
BEGIN:DAYLIGHT
TZOFFSETFROM:-0600
TZOFFSETTO:-0500
TZNAME:CDT
DTSTART:20250309T080000
END:DAYLIGHT
BEGIN:STANDARD
TZOFFSETFROM:-0500
TZOFFSETTO:-0600
TZNAME:CST
DTSTART:20251102T070000
END:STANDARD
BEGIN:DAYLIGHT
TZOFFSETFROM:-0600
TZOFFSETTO:-0500
TZNAME:CDT
DTSTART:20260308T080000
END:DAYLIGHT
BEGIN:STANDARD
TZOFFSETFROM:-0500
TZOFFSETTO:-0600
TZNAME:CST
DTSTART:20261101T070000
END:STANDARD
END:VTIMEZONE
BEGIN:VEVENT
DTSTART;VALUE=DATE:20251010
DTEND;VALUE=DATE:20251011
DTSTAMP:20260423T191524
CREATED:20250803T233717Z
LAST-MODIFIED:20250803T233717Z
UID:753-1760054400-1760140799@lakewayphotographyclub.com
SUMMARY:Texas Co-op Power Photo Contest: From the Oil Fields
DESCRIPTION:Texas Co-op Power Photo Contest: From the Oil Fields\n\nContest ends October 10\, 2025 \n\nDangerous\, dirty work keeps many Texans busy. For February\, show us what life is like in the oil patch. Enter Now. \n\n\nYou must be a member of a Texas electric cooperative to enter this contest. \nOriginal photography only. Images generated by computer/AI or heavily manipulated by editing software will be disqualified.
URL:https://lakewayphotographyclub.com/event/contest-oilfields/
LOCATION:Online Event
CATEGORIES:Contest
ATTACH;FMTTYPE=image/png:https://lakewayphotographyclub.com/wp-content/uploads/2025/08/oil.webp
ORGANIZER;CN="Texas Co-op Power":MAILTO:https://texascooppower.com/contact/
END:VEVENT
END:VCALENDAR