BEGIN:VCALENDAR
VERSION:2.0
PRODID:-//Lakeway Photography Club - ECPv6.15.20//NONSGML v1.0//EN
CALSCALE:GREGORIAN
METHOD:PUBLISH
X-WR-CALNAME:Lakeway Photography Club
X-ORIGINAL-URL:https://lakewayphotographyclub.com
X-WR-CALDESC:Events for Lakeway Photography Club
REFRESH-INTERVAL;VALUE=DURATION:PT1H
X-Robots-Tag:noindex
X-PUBLISHED-TTL:PT1H
BEGIN:VTIMEZONE
TZID:America/Chicago
BEGIN:DAYLIGHT
TZOFFSETFROM:-0600
TZOFFSETTO:-0500
TZNAME:CDT
DTSTART:20240310T080000
END:DAYLIGHT
BEGIN:STANDARD
TZOFFSETFROM:-0500
TZOFFSETTO:-0600
TZNAME:CST
DTSTART:20241103T070000
END:STANDARD
BEGIN:DAYLIGHT
TZOFFSETFROM:-0600
TZOFFSETTO:-0500
TZNAME:CDT
DTSTART:20250309T080000
END:DAYLIGHT
BEGIN:STANDARD
TZOFFSETFROM:-0500
TZOFFSETTO:-0600
TZNAME:CST
DTSTART:20251102T070000
END:STANDARD
BEGIN:DAYLIGHT
TZOFFSETFROM:-0600
TZOFFSETTO:-0500
TZNAME:CDT
DTSTART:20260308T080000
END:DAYLIGHT
BEGIN:STANDARD
TZOFFSETFROM:-0500
TZOFFSETTO:-0600
TZNAME:CST
DTSTART:20261101T070000
END:STANDARD
END:VTIMEZONE
BEGIN:VEVENT
DTSTART;VALUE=DATE:20250623
DTEND;VALUE=DATE:20250624
DTSTAMP:20260424T021435
CREATED:20250401T211950Z
LAST-MODIFIED:20250401T212236Z
UID:702-1750636800-1750723199@lakewayphotographyclub.com
SUMMARY:Naturescapes 2025 Photography Contest
DESCRIPTION:Naturescapes Photography Contest is celebrating its 21st year! The unique beauty of the natural areas within San Marcos inspired the first Naturescapes Photography Contest. The contest includes photographs taken in greenspaces and natural areas throughout Hays\, Blanco\, Comal\, Guadalupe\, Caldwell\, and Travis Counties. Contest sponsors are the Hill Country Photography Club and the Hays County Master Naturalist program. \nGoals of the contest and exhibit include increasing public awareness of the importance of protecting our natural world and giving photographers at all levels of experience a chance to capture\, share\, and receive recognition for beautiful and inspiring images. Suggested subjects include natural scenery\, wildlife\, plants\, and people and pets in the natural environment. \nAccepting entries through June 23\, 2025. \n\n\nPrizes\n\n$150 for Best in Show\n$100 for Best Natural Waterscape\, sponsored by the Hays County Master Naturalists. The photo must feature a natural water feature such as a creek\, river\, pond or lake.\n$75 for Best Youth\n$75 each for 4 Awards of Excellence\n$25 each for 4 Awards of Merit\n$100 for the Best San Marcos Natural Area\, sponsored by the San Marcos Greenbelt Alliance. The photo must be taken within one of San Marcos’ six natural areas: Purgatory Creek Natural Area\, Spring Lake Natural Area\, Ringtail Ridge Natural Area\, Schulle Canyon Natural Area\, Blanco Shoals Natural Area\, and Sessom Creek Park. You can find out more about them\, including their locations\, at https://smgreenbelt.org/natural-areas/. To be eligible for this prize\, a photo must first be selected for the Naturescapes exhibition.\n$50 each for the Best Adult and the Best Youth Native Wildflower\, sponsored by The Hill Country Chapter of the Native Plant Society of Texas. To be eligible for this prize\, a photo must first be selected for the Naturescapes exhibition.\n\nThe contest is open to resident and visiting photographers of all ages. \nNaturescapes Exhibition\nSan Marcos Activity Center Walkers’ Gallery from August 30th – October 24st\, 2025 \n\n\n\n\nNaturescapes Awards Reception\nSan Marcos Activity Center on Saturday\, September 27th\, 2024 from 5:00 pm – 7:00 pm
URL:https://lakewayphotographyclub.com/event/naturescapes-2025-photography-contest/
LOCATION:Online Event
CATEGORIES:Contest
ATTACH;FMTTYPE=image/png:https://lakewayphotographyclub.com/wp-content/uploads/2025/04/LPC-Photo-Spotlight-for-IG-1-png.webp
END:VEVENT
END:VCALENDAR