BEGIN:VCALENDAR
VERSION:2.0
PRODID:-//Lakeway Photography Club - ECPv6.15.20//NONSGML v1.0//EN
CALSCALE:GREGORIAN
METHOD:PUBLISH
X-ORIGINAL-URL:https://lakewayphotographyclub.com
X-WR-CALDESC:Events for Lakeway Photography Club
REFRESH-INTERVAL;VALUE=DURATION:PT1H
X-Robots-Tag:noindex
X-PUBLISHED-TTL:PT1H
BEGIN:VTIMEZONE
TZID:America/Chicago
BEGIN:DAYLIGHT
TZOFFSETFROM:-0600
TZOFFSETTO:-0500
TZNAME:CDT
DTSTART:20240310T080000
END:DAYLIGHT
BEGIN:STANDARD
TZOFFSETFROM:-0500
TZOFFSETTO:-0600
TZNAME:CST
DTSTART:20241103T070000
END:STANDARD
BEGIN:DAYLIGHT
TZOFFSETFROM:-0600
TZOFFSETTO:-0500
TZNAME:CDT
DTSTART:20250309T080000
END:DAYLIGHT
BEGIN:STANDARD
TZOFFSETFROM:-0500
TZOFFSETTO:-0600
TZNAME:CST
DTSTART:20251102T070000
END:STANDARD
BEGIN:DAYLIGHT
TZOFFSETFROM:-0600
TZOFFSETTO:-0500
TZNAME:CDT
DTSTART:20260308T080000
END:DAYLIGHT
BEGIN:STANDARD
TZOFFSETFROM:-0500
TZOFFSETTO:-0600
TZNAME:CST
DTSTART:20261101T070000
END:STANDARD
BEGIN:DAYLIGHT
TZOFFSETFROM:-0600
TZOFFSETTO:-0500
TZNAME:CDT
DTSTART:20270314T080000
END:DAYLIGHT
BEGIN:STANDARD
TZOFFSETFROM:-0500
TZOFFSETTO:-0600
TZNAME:CST
DTSTART:20271107T070000
END:STANDARD
END:VTIMEZONE
BEGIN:VEVENT
DTSTART;VALUE=DATE:20251210
DTEND;VALUE=DATE:20251211
DTSTAMP:20260425T073845
CREATED:20251105T165154Z
LAST-MODIFIED:20251105T165955Z
UID:825-1765324800-1765411199@lakewayphotographyclub.com
SUMMARY:Texas Co-op Power Photo Contest: Gates
DESCRIPTION:Texas Co-op Power Photo Contest: Gates\n\nContest ends December 10\, 2025 \n\nThey keep livestock in and trouble out\, but gates also welcome friends and family with their charm. For this contest\, showcase the entry to your little slice of heaven. Enter Now. \n\n\nYou must be a member of a Texas electric cooperative to enter this contest. \nOriginal photography only. Images generated by computer/AI or heavily manipulated by editing software will be disqualified.
URL:https://lakewayphotographyclub.com/event/contest-gates/
LOCATION:Online Event
CATEGORIES:Contest
ATTACH;FMTTYPE=image/png:https://lakewayphotographyclub.com/wp-content/uploads/2025/11/texasgate.avif
ORGANIZER;CN="Texas Co-op Power":MAILTO:https://texascooppower.com/contact/
END:VEVENT
BEGIN:VEVENT
DTSTART;VALUE=DATE:20260110
DTEND;VALUE=DATE:20260111
DTSTAMP:20260425T073845
CREATED:20251105T165844Z
LAST-MODIFIED:20251105T170136Z
UID:828-1768003200-1768089599@lakewayphotographyclub.com
SUMMARY:Texas Co-op Power Photo Contest: Caught Napping
DESCRIPTION:Texas Co-op Power Photo Contest: Caught Napping\n\nContest ends January 10\, 2026 \n\nFrom grandpas who are “just resting their eyes” to young’uns who play until they drop\, there’s nothing like a good nap. For this contest\, we’ll see who you caught snoozing. Enter Now. \n\n\nYou must be a member of a Texas electric cooperative to enter this contest. \nOriginal photography only. Images generated by computer/AI or heavily manipulated by editing software will be disqualified.
URL:https://lakewayphotographyclub.com/event/contest-caught-napping/
LOCATION:Online Event
CATEGORIES:Contest
ATTACH;FMTTYPE=image/jpeg:https://lakewayphotographyclub.com/wp-content/uploads/2025/11/catnapping2.avif
ORGANIZER;CN="Texas Co-op Power":MAILTO:https://texascooppower.com/contact/
END:VEVENT
BEGIN:VEVENT
DTSTART;VALUE=DATE:20260210
DTEND;VALUE=DATE:20260211
DTSTAMP:20260425T073845
CREATED:20251105T170849Z
LAST-MODIFIED:20251105T170849Z
UID:835-1770681600-1770767999@lakewayphotographyclub.com
SUMMARY:Texas Co-op Power Photo Contest: Making a Splash
DESCRIPTION:Texas Co-op Power Photo Contest: Making a Splash\n\nContest ends February 10\, 2026 \n\nFun in the water is our great summertime escape. For this contest\, show us how you like to relax and beat the Texas heat. Enter Now. \n\n\nYou must be a member of a Texas electric cooperative to enter this contest. \nOriginal photography only. Images generated by computer/AI or heavily manipulated by editing software will be disqualified.
URL:https://lakewayphotographyclub.com/event/contest-making-a-splash/
LOCATION:Online Event
CATEGORIES:Contest
ATTACH;FMTTYPE=image/webp:https://lakewayphotographyclub.com/wp-content/uploads/2025/11/dogbeachsplash.avif
ORGANIZER;CN="Texas Co-op Power":MAILTO:https://texascooppower.com/contact/
END:VEVENT
BEGIN:VEVENT
DTSTART;VALUE=DATE:20260310
DTEND;VALUE=DATE:20260311
DTSTAMP:20260425T073845
CREATED:20251114T174859Z
LAST-MODIFIED:20251114T174909Z
UID:852-1773100800-1773187199@lakewayphotographyclub.com
SUMMARY:Texas Co-op Power Photo Contest: Seasoned Snaps
DESCRIPTION:Texas Co-op Power Photo Contest: Seasoned Snaps\n\nContest ends March 10\, 2026 \n\nYou’ve been making photos for decades. For this contest\, show us what well-trained eyes see through your lenses. Enter Now. \n\n\nYou must be a member of a Texas electric cooperative to enter this contest. \nOriginal photography only. Images generated by computer/AI or heavily manipulated by editing software will be disqualified.
URL:https://lakewayphotographyclub.com/event/contest-seasoned-snaps/
LOCATION:Online Event
CATEGORIES:Contest
ATTACH;FMTTYPE=image/jpeg:https://lakewayphotographyclub.com/wp-content/uploads/2024/08/photography-art-opening-jpg.webp
ORGANIZER;CN="Texas Co-op Power":MAILTO:https://texascooppower.com/contact/
END:VEVENT
BEGIN:VEVENT
DTSTART;VALUE=DATE:20260410
DTEND;VALUE=DATE:20260411
DTSTAMP:20260425T073845
CREATED:20260207T011515Z
LAST-MODIFIED:20260207T011615Z
UID:913-1775779200-1775865599@lakewayphotographyclub.com
SUMMARY:Texas Co-op Power Photo Contest: Underwater Life
DESCRIPTION:Texas Co-op Power Photo Contest: Underwater Life\n\nContest ends April 10\, 2026 \n\nThe numerous rivers\, streams and shores of Texas are teeming with life. For August\, it’s time to go exploring. Show us what you find in the waters near you. Enter Now. \n\n\nYou must be a member of a Texas electric cooperative to enter this contest. \nOriginal photography only. Images generated by computer/AI or heavily manipulated by editing software will be disqualified.
URL:https://lakewayphotographyclub.com/event/contest-underwater-life/
LOCATION:Online Event
CATEGORIES:Contest
ATTACH;FMTTYPE=image/webp:https://lakewayphotographyclub.com/wp-content/uploads/2026/02/underwaterlife.avif
ORGANIZER;CN="Texas Co-op Power":MAILTO:https://texascooppower.com/contact/
END:VEVENT
BEGIN:VEVENT
DTSTART;VALUE=DATE:20260510
DTEND;VALUE=DATE:20260511
DTSTAMP:20260425T073845
CREATED:20260207T020006Z
LAST-MODIFIED:20260207T020025Z
UID:917-1778371200-1778457599@lakewayphotographyclub.com
SUMMARY:Texas Co-op Power Photo Contest: Rodeo
DESCRIPTION:Texas Co-op Power Photo Contest: Rodeo\n\nContest ends May 10\, 2026 \n\nGrab your hat and boots—it’s time for the rodeo! For September\, show us your best bronc riding\, mutton bustin’ and team roping shots from your hometown roundup. Enter Now. \n\n\nYou must be a member of a Texas electric cooperative to enter this contest. \nOriginal photography only. Images generated by computer/AI or heavily manipulated by editing software will be disqualified.
URL:https://lakewayphotographyclub.com/event/contest-rodeo/
LOCATION:Online Event
CATEGORIES:Contest
ATTACH;FMTTYPE=image/jpeg:https://lakewayphotographyclub.com/wp-content/uploads/2026/02/rodeo.avif
ORGANIZER;CN="Texas Co-op Power":MAILTO:https://texascooppower.com/contact/
END:VEVENT
BEGIN:VEVENT
DTSTART;VALUE=DATE:20260610
DTEND;VALUE=DATE:20260611
DTSTAMP:20260425T073845
CREATED:20260226T032721Z
LAST-MODIFIED:20260226T033304Z
UID:946-1781049600-1781135999@lakewayphotographyclub.com
SUMMARY:Texas Co-op Power Photo Contest: Tailgating
DESCRIPTION:Texas Co-op Power Photo Contest: Tailgating\n\nContest ends June 10\, 2026 \n\nIt’s synonymous with football and always a blast. For October\, show us your food\, vehicles and friends decked out in game day gear. Enter Now. \n\n\nYou must be a member of a Texas electric cooperative to enter this contest. \nOriginal photography only. Images generated by computer/AI or heavily manipulated by editing software will be disqualified.
URL:https://lakewayphotographyclub.com/event/contest-tailgating/
LOCATION:Online Event
CATEGORIES:Contest
ATTACH;FMTTYPE=image/png:https://lakewayphotographyclub.com/wp-content/uploads/2026/02/tailgate-game.avif
ORGANIZER;CN="Texas Co-op Power":MAILTO:https://texascooppower.com/contact/
END:VEVENT
END:VCALENDAR