BEGIN:VCALENDAR
VERSION:2.0
PRODID:-//Lakeway Photography Club - ECPv6.15.20//NONSGML v1.0//EN
CALSCALE:GREGORIAN
METHOD:PUBLISH
X-ORIGINAL-URL:https://lakewayphotographyclub.com
X-WR-CALDESC:Events for Lakeway Photography Club
REFRESH-INTERVAL;VALUE=DURATION:PT1H
X-Robots-Tag:noindex
X-PUBLISHED-TTL:PT1H
BEGIN:VTIMEZONE
TZID:America/Chicago
BEGIN:DAYLIGHT
TZOFFSETFROM:-0600
TZOFFSETTO:-0500
TZNAME:CDT
DTSTART:20250309T080000
END:DAYLIGHT
BEGIN:STANDARD
TZOFFSETFROM:-0500
TZOFFSETTO:-0600
TZNAME:CST
DTSTART:20251102T070000
END:STANDARD
BEGIN:DAYLIGHT
TZOFFSETFROM:-0600
TZOFFSETTO:-0500
TZNAME:CDT
DTSTART:20260308T080000
END:DAYLIGHT
BEGIN:STANDARD
TZOFFSETFROM:-0500
TZOFFSETTO:-0600
TZNAME:CST
DTSTART:20261101T070000
END:STANDARD
BEGIN:DAYLIGHT
TZOFFSETFROM:-0600
TZOFFSETTO:-0500
TZNAME:CDT
DTSTART:20270314T080000
END:DAYLIGHT
BEGIN:STANDARD
TZOFFSETFROM:-0500
TZOFFSETTO:-0600
TZNAME:CST
DTSTART:20271107T070000
END:STANDARD
END:VTIMEZONE
BEGIN:VEVENT
DTSTART;TZID=America/Chicago:20260808T140000
DTEND;TZID=America/Chicago:20260808T150000
DTSTAMP:20260423T125721
CREATED:20260225T224028Z
LAST-MODIFIED:20260225T224505Z
UID:939-1786197600-1786201200@lakewayphotographyclub.com
SUMMARY:Lakeway Photography Club "Around the World" Opening Reception
DESCRIPTION:Get ready to embark on a travel journey through a camera lens! The Lakeway Photography Club is thrilled to announce their upcoming exhibit\, “Around the World\,” showcasing captivating photographs inspired by travelling around the world. This unique exhibition will be held at the Lake Travis Community Library from August 1st to 29th\, 2026. Stay tuned to enter your photos from May 1 – 31. \nMark your calendars for the opening reception on Saturday August 8\, 2026 from 2-3pm. This event will provide an opportunity to meet the photographers\, admire their work\, and engage in lively discussions about the power of travel and photography.
URL:https://lakewayphotographyclub.com/event/around-the-world-reception/
LOCATION:Lake Travis Community Library\, 1938 Lohmans Crossing\, Lakeway\, TX\, 78734\, United States
CATEGORIES:Exhibit,Special Event
ATTACH;FMTTYPE=image/png:https://lakewayphotographyclub.com/wp-content/uploads/2026/02/Lake-Travis-Community-Library-Art-Exhibit.avif
ORGANIZER;CN="Lakeway Photography Club":MAILTO:lakewayphotographyclub@gmail.com
END:VEVENT
END:VCALENDAR