BEGIN:VCALENDAR
VERSION:2.0
PRODID:-//Lakeway Photography Club - ECPv6.15.20//NONSGML v1.0//EN
CALSCALE:GREGORIAN
METHOD:PUBLISH
X-WR-CALNAME:Lakeway Photography Club
X-ORIGINAL-URL:https://lakewayphotographyclub.com
X-WR-CALDESC:Events for Lakeway Photography Club
REFRESH-INTERVAL;VALUE=DURATION:PT1H
X-Robots-Tag:noindex
X-PUBLISHED-TTL:PT1H
BEGIN:VTIMEZONE
TZID:America/Chicago
BEGIN:DAYLIGHT
TZOFFSETFROM:-0600
TZOFFSETTO:-0500
TZNAME:CDT
DTSTART:20230312T080000
END:DAYLIGHT
BEGIN:STANDARD
TZOFFSETFROM:-0500
TZOFFSETTO:-0600
TZNAME:CST
DTSTART:20231105T070000
END:STANDARD
BEGIN:DAYLIGHT
TZOFFSETFROM:-0600
TZOFFSETTO:-0500
TZNAME:CDT
DTSTART:20240310T080000
END:DAYLIGHT
BEGIN:STANDARD
TZOFFSETFROM:-0500
TZOFFSETTO:-0600
TZNAME:CST
DTSTART:20241103T070000
END:STANDARD
BEGIN:DAYLIGHT
TZOFFSETFROM:-0600
TZOFFSETTO:-0500
TZNAME:CDT
DTSTART:20250309T080000
END:DAYLIGHT
BEGIN:STANDARD
TZOFFSETFROM:-0500
TZOFFSETTO:-0600
TZNAME:CST
DTSTART:20251102T070000
END:STANDARD
BEGIN:DAYLIGHT
TZOFFSETFROM:-0600
TZOFFSETTO:-0500
TZNAME:CDT
DTSTART:20260308T080000
END:DAYLIGHT
BEGIN:STANDARD
TZOFFSETFROM:-0500
TZOFFSETTO:-0600
TZNAME:CST
DTSTART:20261101T070000
END:STANDARD
END:VTIMEZONE
BEGIN:VEVENT
DTSTART;TZID=America/Chicago:20251117T173000
DTEND;TZID=America/Chicago:20251117T190000
DTSTAMP:20260423T114640
CREATED:20250831T011531Z
LAST-MODIFIED:20251104T231916Z
UID:810-1763400600-1763406000@lakewayphotographyclub.com
SUMMARY:2025 Lakeway Photo Festival Opening Reception
DESCRIPTION:Join us for the 2025 Lakeway Photo Festival Opening Reception at the Lakeway City Hall Art Gallery honoring the winning and honorable mention photographers. All are welcome in the Art Gallery for light refreshments from 5:30 – 7pm before the City Council meeting. \nThe winning 2025 Lakeway Photo Festival photographs will be on display in Lakeway City Hall Art Gallery until December 20th during regular business hours.
URL:https://lakewayphotographyclub.com/event/2025-lakeway-photo-festival-opening-reception/
LOCATION:Lakeway City Hall Art Gallery\, 1102 Lohmans Crossing Rd\, Lakeway\, TX\, 78734\, United States
CATEGORIES:Exhibit,Special Event
ATTACH;FMTTYPE=image/png:https://lakewayphotographyclub.com/wp-content/uploads/2025/11/Lakeway-City-Hall-Art-Gallery-IGNovDec2025.avif
END:VEVENT
BEGIN:VEVENT
DTSTART;TZID=America/Chicago:20250802T133000
DTEND;TZID=America/Chicago:20250802T150000
DTSTAMP:20260423T114640
CREATED:20241016T180520Z
LAST-MODIFIED:20250501T195602Z
UID:566-1754141400-1754146800@lakewayphotographyclub.com
SUMMARY:Lakeway Photography Club "Pages to Pixels" Opening Reception
DESCRIPTION:Get ready to embark on a literary journey through a camera lens! The Lakeway Photography Club is thrilled to announce their upcoming exhibit\, “Pages to Pixels\,” showcasing captivating photographs inspired by beloved authors and books. This unique exhibition will be held at the Lake Travis Community Library from August 1st to 30th\, 2025. Enter your photos today! \nMark your calendars for the opening reception on August 2\, 2025 from 1:30-3pm. This event will provide an opportunity to meet the photographers\, admire their work\, and engage in lively discussions about the power of literature and photography. \nWe look forward to seeing your creative interpretations of your favorite authors and books!
URL:https://lakewayphotographyclub.com/event/pages-to-pixels-reception/
LOCATION:Lake Travis Community Library\, 1938 Lohmans Crossing\, Lakeway\, TX\, 78734\, United States
CATEGORIES:Exhibit,Special Event
ATTACH;FMTTYPE=image/png:https://lakewayphotographyclub.com/wp-content/uploads/2025/01/Lake-Travis-Community-Library-Art-Exhibit.webp
ORGANIZER;CN="Lakeway Photography Club":MAILTO:lakewayphotographyclub@gmail.com
END:VEVENT
BEGIN:VEVENT
DTSTART;VALUE=DATE:20250501
DTEND;VALUE=DATE:20250502
DTSTAMP:20260423T114640
CREATED:20250208T153946Z
LAST-MODIFIED:20250501T200522Z
UID:651-1746057600-1746143999@lakewayphotographyclub.com
SUMMARY:Call for Photography Opens: Pages to Pixels
DESCRIPTION:Call for Photography: Pages to Pixels \nEmbark on a literary journey through your camera lens! The Lakeway Photography Club presents “Pages to Pixels\,” an exhibit showcasing photographs inspired by beloved authors and books. This unique exhibition will be held at the Lake Travis Community Library from August 1st to 30th\, 2025. \nA Photographic Exploration of Literary Worlds \n“Pages to Pixels” invites photographers to translate the imaginative worlds of their favorite literary works into compelling visual compositions. Capture the essence of a character\, symbolize a profound theme\, or share your personal connection to a story – all interpretations are welcome. \nThemes and Interpretations (Examples): \n\nPortraits of Fictional Characters: Bring literary figures to life through evocative portraits.\nSymbolic Representations: Use photography to convey the underlying themes and messages of your chosen books.\nPersonal Connections: Reflect on the impact of literature on your life through photographs that express your experiences and interpretations.\n\nSubmission Guidelines: \nLakeway Photography Club members are invited to submit their work online for consideration. Selected photographs will be displayed at the Lake Travis Community Library throughout August. \n\nCall for Photography Opens: May 1st\, 2025\nSubmission Deadline: June 10th\, 2025 at 5pm\n Enter your photos today!
URL:https://lakewayphotographyclub.com/event/call-for-pages-to-pixels/
LOCATION:Online Event
CATEGORIES:Exhibit,Membership,Open Call
ATTACH;FMTTYPE=image/jpeg:https://lakewayphotographyclub.com/wp-content/uploads/2024/08/photography-art-opening-jpg.webp
ORGANIZER;CN="Lakeway Photography Club":MAILTO:lakewayphotographyclub@gmail.com
END:VEVENT
BEGIN:VEVENT
DTSTART;TZID=America/Chicago:20250308T133000
DTEND;TZID=America/Chicago:20250308T150000
DTSTAMP:20260423T114640
CREATED:20241118T052635Z
LAST-MODIFIED:20241217T072504Z
UID:617-1741440600-1741446000@lakewayphotographyclub.com
SUMMARY:Women in Photography Opening Reception
DESCRIPTION:Women in Visual Art (WIVA) presents Women in Photography 2025\, a special photo exhibition celebrating Women’s History Month from March 1st – March 29th at the Lake Travis Library. This creative exhibit includes dramatic photos both by women photographers and portraits of women taken by local photographers. The exhibit was inspired by women’s history\, health\, beauty\, motherhood and equality. We invite you to join us at the Opening Reception on International Women’s Day\, March 8th from 1:30-3pm. Light refreshments will be served and it is open to the public.
URL:https://lakewayphotographyclub.com/event/women-in-photography-opening-reception/
LOCATION:Lake Travis Community Library\, 1938 Lohmans Crossing\, Lakeway\, TX\, 78734\, United States
CATEGORIES:Exhibit,Special Event
ATTACH;FMTTYPE=image/png:https://lakewayphotographyclub.com/wp-content/uploads/2024/11/2025-WomenInPhotography-IG-FINAL-png.webp
END:VEVENT
BEGIN:VEVENT
DTSTART;TZID=America/Chicago:20241118T173000
DTEND;TZID=America/Chicago:20241118T190000
DTSTAMP:20260423T114640
CREATED:20240811T222312Z
LAST-MODIFIED:20241118T050034Z
UID:512-1731951000-1731956400@lakewayphotographyclub.com
SUMMARY:Lakeway Photo Festival Opening Reception
DESCRIPTION:Join us for the 2024 Lakeway Photo Festival Opening Reception at the Lakeway City Hall Art Gallery honoring the winning and honorable mention photographers. All are welcome in the Art Gallery for light refreshments from 5:30 – 7pm before the City Council meeting. \nThe winning 2024 Lakeway Photo Festival photographs will be on display in Lakeway City Hall Art Gallery until December 20th during regular business hours.
URL:https://lakewayphotographyclub.com/event/opening-reception/
LOCATION:Lakeway City Hall Art Gallery\, 1102 Lohmans Crossing Rd\, Lakeway\, TX\, 78734\, United States
CATEGORIES:Exhibit
ATTACH;FMTTYPE=image/png:https://lakewayphotographyclub.com/wp-content/uploads/2024/10/Lakeway-City-Hall-Art-Gallery-NovDec2024-png.webp
END:VEVENT
BEGIN:VEVENT
DTSTART;TZID=America/Chicago:20240309T133000
DTEND;TZID=America/Chicago:20240309T150000
DTSTAMP:20260423T114640
CREATED:20230829T175630Z
LAST-MODIFIED:20240107T031441Z
UID:189-1709991000-1709996400@lakewayphotographyclub.com
SUMMARY:Art Reception: Women in Photography Exhibit
DESCRIPTION:Join us to celebrate the talented photographers honoring Women’s History Month at the “Women in Photography“ Artist Reception on March 9th from 1:30 to 3pm at the Lake Travis Community Library. This group show of stunning photographs by local photographers is inspired by women’s history\, issues and rights like voting\, equality\, health\, beauty\, motherhood\, etc. We look forward to seeing you there!
URL:https://lakewayphotographyclub.com/event/art-reception-women-in-photography-exhibit/
LOCATION:Lake Travis Community Library\, 1938 Lohmans Crossing\, Lakeway\, TX\, 78734\, United States
CATEGORIES:Exhibit
ATTACH;FMTTYPE=image/png:https://lakewayphotographyclub.com/wp-content/uploads/2023/08/WomenInPhotography-Insta-2.png
END:VEVENT
BEGIN:VEVENT
DTSTART;VALUE=DATE:20240301
DTEND;VALUE=DATE:20240302
DTSTAMP:20260423T114640
CREATED:20240209T210122Z
LAST-MODIFIED:20240209T210233Z
UID:389-1709251200-1709337599@lakewayphotographyclub.com
SUMMARY:Women in Photography Exhibit Opens
DESCRIPTION:The Lakeway Arts District presents “Women in Photography”\, a special photo exhibition celebrating Women’s History Month from March 1st – March 30th at the Lake Travis Community Library. This creative exhibit includes dramatic photos both by women photographers and portraits of women taken by local photographers. The exhibit was inspired by women’s history\, health\, beauty\, motherhood and equality. We invite you to join us at the Artists Reception on March 9th from 1:30-3pm. Light refreshments will be served and it is open to the public. \n\n\nFeel free to enjoy this exhibit anytime in March during regular library business hours. Also please visit the sister exhibit “Women in Art 2024” at the Hive Gallery in the Hill Country Galleria from February 3rd to March 22nd to see the stunning artworks of 68 local women artists.
URL:https://lakewayphotographyclub.com/event/women-in-photography/
LOCATION:Lake Travis Community Library\, 1938 Lohmans Crossing\, Lakeway\, TX\, 78734\, United States
CATEGORIES:Exhibit,Lakeway
ATTACH;FMTTYPE=image/png:https://lakewayphotographyclub.com/wp-content/uploads/2024/02/Women-In-Photography-SQ.png
END:VEVENT
END:VCALENDAR