BEGIN:VCALENDAR
VERSION:2.0
PRODID:-//Lakeway Photography Club - ECPv6.15.20//NONSGML v1.0//EN
CALSCALE:GREGORIAN
METHOD:PUBLISH
X-WR-CALNAME:Lakeway Photography Club
X-ORIGINAL-URL:https://lakewayphotographyclub.com
X-WR-CALDESC:Events for Lakeway Photography Club
REFRESH-INTERVAL;VALUE=DURATION:PT1H
X-Robots-Tag:noindex
X-PUBLISHED-TTL:PT1H
BEGIN:VTIMEZONE
TZID:America/Chicago
BEGIN:DAYLIGHT
TZOFFSETFROM:-0600
TZOFFSETTO:-0500
TZNAME:CDT
DTSTART:20230312T080000
END:DAYLIGHT
BEGIN:STANDARD
TZOFFSETFROM:-0500
TZOFFSETTO:-0600
TZNAME:CST
DTSTART:20231105T070000
END:STANDARD
BEGIN:DAYLIGHT
TZOFFSETFROM:-0600
TZOFFSETTO:-0500
TZNAME:CDT
DTSTART:20240310T080000
END:DAYLIGHT
BEGIN:STANDARD
TZOFFSETFROM:-0500
TZOFFSETTO:-0600
TZNAME:CST
DTSTART:20241103T070000
END:STANDARD
BEGIN:DAYLIGHT
TZOFFSETFROM:-0600
TZOFFSETTO:-0500
TZNAME:CDT
DTSTART:20250309T080000
END:DAYLIGHT
BEGIN:STANDARD
TZOFFSETFROM:-0500
TZOFFSETTO:-0600
TZNAME:CST
DTSTART:20251102T070000
END:STANDARD
BEGIN:DAYLIGHT
TZOFFSETFROM:-0600
TZOFFSETTO:-0500
TZNAME:CDT
DTSTART:20260308T080000
END:DAYLIGHT
BEGIN:STANDARD
TZOFFSETFROM:-0500
TZOFFSETTO:-0600
TZNAME:CST
DTSTART:20261101T070000
END:STANDARD
END:VTIMEZONE
BEGIN:VEVENT
DTSTART;TZID=America/Chicago:20250921T160000
DTEND;TZID=America/Chicago:20250921T170000
DTSTAMP:20260423T142337
CREATED:20250501T201439Z
LAST-MODIFIED:20250831T011621Z
UID:729-1758470400-1758474000@lakewayphotographyclub.com
SUMMARY:2025 Lakeway Photo Festival Awards Reception
DESCRIPTION:Mark your calendars! The much-anticipated Awards Reception for the 2025 Lakeway Photo Festival is happening Sunday\, September 21st\, at 4:00 PM at the Lakeway Activity Center. \nJoin the Lakeway Arts Committee as they celebrate the creativity and talent of all the photographers who participated in this year’s festival. They will be announcing the winning photos in each category\, and it’s sure to be an exciting afternoon! Don’t miss this opportunity to celebrate the artistic achievements of the Lakeway community\, see the winning photos displayed on the big screen\, and a chance to mingle with fellow photography enthusiasts while enjoying some light refreshments. See you there!
URL:https://lakewayphotographyclub.com/event/2025-lakeway-photo-festival-awards-reception/
LOCATION:Lakeway Activity Center\, 105 Cross Creek\, Lakeway\, TX\, 78734\, United States
CATEGORIES:Contest,Festival,Lakeway
ATTACH;FMTTYPE=image/png:https://lakewayphotographyclub.com/wp-content/uploads/2025/05/LPF2025_IG-AwardsReception.webp
END:VEVENT
BEGIN:VEVENT
DTSTART;TZID=America/Chicago:20240922T160000
DTEND;TZID=America/Chicago:20240922T170000
DTSTAMP:20260423T142337
CREATED:20230825T194329Z
LAST-MODIFIED:20240915T201305Z
UID:62-1727020800-1727024400@lakewayphotographyclub.com
SUMMARY:2024 Lakeway Photo Festival Awards Reception
DESCRIPTION:Mark your calendars! The much-anticipated Awards Reception for the 2024 Lakeway Photo Festival is happening next Sunday\, September 22nd\, at 4:00 PM at the Lakeway Activity Center.\nJoin us as we celebrate the creativity and talent of all the photographers who participated in this year’s festival. We’ll be announcing the winning photos in each category\, and it’s sure to be an exciting afternoon!\n\nDate & Time: Sunday\, September 22nd\, 2024\, from 4 to 5 PM\nLocation: Lakeway Activity Center\, 105 Cross Creek\, Lakeway\, TX 78734\nAttire: Fun\, festive\, or relaxed party attire\nWebsite: 2024 Lakeway Photo Festival\nCost: Free!\n\nDon’t miss this opportunity to celebrate the artistic achievements of the Lakeway community\, see the winning photos displayed on the big screen\, and a chance to mingle with fellow photography enthusiasts while enjoying some light refreshments.\nIn addition\, the winning photos will also be on exhibit at the Lakeway City Hall Art Gallery from November 1st to December 31st\, with an opening reception on Monday\, November 18th\, at 5:30 PM.
URL:https://lakewayphotographyclub.com/event/2024-lakeway-photo-festival-awards-reception/
LOCATION:Lakeway Activity Center\, 105 Cross Creek\, Lakeway\, TX\, 78734\, United States
CATEGORIES:Contest,Lakeway
ATTACH;FMTTYPE=image/png:https://lakewayphotographyclub.com/wp-content/uploads/2024/07/LPF2024_IG_AwardsReception_Celebrate.png
END:VEVENT
BEGIN:VEVENT
DTSTART;VALUE=DATE:20240831
DTEND;VALUE=DATE:20240901
DTSTAMP:20260423T142337
CREATED:20230825T194559Z
LAST-MODIFIED:20240216T180435Z
UID:66-1725062400-1725148799@lakewayphotographyclub.com
SUMMARY:Last Day to Enter the 2024 Lakeway Photo Festival
DESCRIPTION:Last day to submit your entries for the 2024 Lakeway Photo Festival!
URL:https://lakewayphotographyclub.com/event/last-day-to-enter-the-2024-lakeway-photo-festival/
LOCATION:TX
CATEGORIES:Contest,Lakeway
ATTACH;FMTTYPE=image/jpeg:https://lakewayphotographyclub.com/wp-content/uploads/2023/11/ruthorkin.jpg
END:VEVENT
BEGIN:VEVENT
DTSTART;VALUE=DATE:20240715
DTEND;VALUE=DATE:20240716
DTSTAMP:20260423T142337
CREATED:20230825T194744Z
LAST-MODIFIED:20240216T180335Z
UID:69-1721001600-1721087999@lakewayphotographyclub.com
SUMMARY:2024 Lakeway Photo Festival Opens
DESCRIPTION:Photographers can begin to submit their entries to the Lakeway Photo Festival starting today. Stay tuned for more details!
URL:https://lakewayphotographyclub.com/event/2024-lakeway-photo-festival-opens/
LOCATION:TX
CATEGORIES:Contest,Lakeway
ATTACH;FMTTYPE=image/png:https://lakewayphotographyclub.com/wp-content/uploads/2023/08/LPF2024_IG.png
END:VEVENT
BEGIN:VEVENT
DTSTART;VALUE=DATE:20240301
DTEND;VALUE=DATE:20240302
DTSTAMP:20260423T142337
CREATED:20240209T210122Z
LAST-MODIFIED:20240209T210233Z
UID:389-1709251200-1709337599@lakewayphotographyclub.com
SUMMARY:Women in Photography Exhibit Opens
DESCRIPTION:The Lakeway Arts District presents “Women in Photography”\, a special photo exhibition celebrating Women’s History Month from March 1st – March 30th at the Lake Travis Community Library. This creative exhibit includes dramatic photos both by women photographers and portraits of women taken by local photographers. The exhibit was inspired by women’s history\, health\, beauty\, motherhood and equality. We invite you to join us at the Artists Reception on March 9th from 1:30-3pm. Light refreshments will be served and it is open to the public. \n\n\nFeel free to enjoy this exhibit anytime in March during regular library business hours. Also please visit the sister exhibit “Women in Art 2024” at the Hive Gallery in the Hill Country Galleria from February 3rd to March 22nd to see the stunning artworks of 68 local women artists.
URL:https://lakewayphotographyclub.com/event/women-in-photography/
LOCATION:Lake Travis Community Library\, 1938 Lohmans Crossing\, Lakeway\, TX\, 78734\, United States
CATEGORIES:Exhibit,Lakeway
ATTACH;FMTTYPE=image/png:https://lakewayphotographyclub.com/wp-content/uploads/2024/02/Women-In-Photography-SQ.png
END:VEVENT
END:VCALENDAR