BEGIN:VCALENDAR
VERSION:2.0
PRODID:-//Lakeway Photography Club - ECPv6.15.20//NONSGML v1.0//EN
CALSCALE:GREGORIAN
METHOD:PUBLISH
X-ORIGINAL-URL:https://lakewayphotographyclub.com
X-WR-CALDESC:Events for Lakeway Photography Club
REFRESH-INTERVAL;VALUE=DURATION:PT1H
X-Robots-Tag:noindex
X-PUBLISHED-TTL:PT1H
BEGIN:VTIMEZONE
TZID:America/Chicago
BEGIN:DAYLIGHT
TZOFFSETFROM:-0600
TZOFFSETTO:-0500
TZNAME:CDT
DTSTART:20220313T080000
END:DAYLIGHT
BEGIN:STANDARD
TZOFFSETFROM:-0500
TZOFFSETTO:-0600
TZNAME:CST
DTSTART:20221106T070000
END:STANDARD
BEGIN:DAYLIGHT
TZOFFSETFROM:-0600
TZOFFSETTO:-0500
TZNAME:CDT
DTSTART:20230312T080000
END:DAYLIGHT
BEGIN:STANDARD
TZOFFSETFROM:-0500
TZOFFSETTO:-0600
TZNAME:CST
DTSTART:20231105T070000
END:STANDARD
BEGIN:DAYLIGHT
TZOFFSETFROM:-0600
TZOFFSETTO:-0500
TZNAME:CDT
DTSTART:20240310T080000
END:DAYLIGHT
BEGIN:STANDARD
TZOFFSETFROM:-0500
TZOFFSETTO:-0600
TZNAME:CST
DTSTART:20241103T070000
END:STANDARD
BEGIN:DAYLIGHT
TZOFFSETFROM:-0600
TZOFFSETTO:-0500
TZNAME:CDT
DTSTART:20250309T080000
END:DAYLIGHT
BEGIN:STANDARD
TZOFFSETFROM:-0500
TZOFFSETTO:-0600
TZNAME:CST
DTSTART:20251102T070000
END:STANDARD
END:VTIMEZONE
BEGIN:VEVENT
DTSTART;TZID=America/Chicago:20240408T123000
DTEND;TZID=America/Chicago:20240408T133000
DTSTAMP:20260423T172203
CREATED:20240210T040045Z
LAST-MODIFIED:20240210T040045Z
UID:392-1712579400-1712583000@lakewayphotographyclub.com
SUMMARY:Total Solar Eclipse
DESCRIPTION:The sun is 400 times bigger than the moon\, but it’s also 400 times farther away from us—a glorious cosmic coincidence that has the moon precisely covering the sun’s face when the two align. The result is a total solar eclipse. The alignment is visible only within a narrow band\, the path of totality\, which will arc across North America on April 8. (The last total eclipse on the continent was in August 2017.) More than 40 million people live within the totality path\, and millions more are a few hours away. Spring weather will affect visibility; much of the northeastern U.S. and maritime Canada tends to be cloudy this time of year. Remember that “no one who has ever traveled to see totality has regretted the effort.” \nPATH OF TOTALITY\nThe moon’s shadow hits land in Sinaloa\, Mexico\, and runs up to Labrador\, Canada\, crossing the continent in just an hour and 35 minutes. Within the shaded region\, totality lasts longest at the centerline\, reaching four and a half minutes in some places.
URL:https://lakewayphotographyclub.com/event/total-solar-eclipse/
LOCATION:Online Event
CATEGORIES:Outdoor,Special Event
ATTACH;FMTTYPE=image/png:https://lakewayphotographyclub.com/wp-content/uploads/2023/10/eclipse.png
ORGANIZER;CN="Lakeway Photography Club":MAILTO:lakewayphotographyclub@gmail.com
END:VEVENT
BEGIN:VEVENT
DTSTART;TZID=America/Chicago:20231014T110000
DTEND;TZID=America/Chicago:20231014T130000
DTSTAMP:20260423T172203
CREATED:20231008T213304Z
LAST-MODIFIED:20231008T213304Z
UID:295-1697281200-1697288400@lakewayphotographyclub.com
SUMMARY:Annular Solar Eclipse
DESCRIPTION:An annular solar eclipse occurs when the Moon passes between the Sun and Earth while at its farthest point from Earth. Because the Moon is farther away from Earth\, it does not completely block the Sun. This will create a “ring of fire” effect in the sky for those standing in the path of annularity. During an annular eclipse\, it is never safe to look directly at the Sun without specialized eye protection designed for solar viewing. \n\n\n\n\nLocation\n\n\nPartial Eclipse Begins\n\n\nAnnularity Begins\n\n\nMaximum\n\n\nAnnularity Ends\n\n\nPartial Eclipse Ends\n\n\n\n\nLakeway\, Texas\n\n\n10:23 a.m. CDT\n\n\n11:52 a.m. CDT\n\n\n11:54 a.m. CDT\n\n\n11:56 a.m. CDT\n\n\n1:33 p.m. CDT
URL:https://lakewayphotographyclub.com/event/annular-solar-eclipse/
CATEGORIES:Outdoor,Special Event
ATTACH;FMTTYPE=image/png:https://lakewayphotographyclub.com/wp-content/uploads/2023/10/eclipse.png
END:VEVENT
END:VCALENDAR