BEGIN:VCALENDAR
VERSION:2.0
PRODID:-//Lakeway Photography Club - ECPv6.15.20//NONSGML v1.0//EN
CALSCALE:GREGORIAN
METHOD:PUBLISH
X-WR-CALNAME:Lakeway Photography Club
X-ORIGINAL-URL:https://lakewayphotographyclub.com
X-WR-CALDESC:Events for Lakeway Photography Club
REFRESH-INTERVAL;VALUE=DURATION:PT1H
X-Robots-Tag:noindex
X-PUBLISHED-TTL:PT1H
BEGIN:VTIMEZONE
TZID:America/Chicago
BEGIN:DAYLIGHT
TZOFFSETFROM:-0600
TZOFFSETTO:-0500
TZNAME:CDT
DTSTART:20220313T080000
END:DAYLIGHT
BEGIN:STANDARD
TZOFFSETFROM:-0500
TZOFFSETTO:-0600
TZNAME:CST
DTSTART:20221106T070000
END:STANDARD
BEGIN:DAYLIGHT
TZOFFSETFROM:-0600
TZOFFSETTO:-0500
TZNAME:CDT
DTSTART:20230312T080000
END:DAYLIGHT
BEGIN:STANDARD
TZOFFSETFROM:-0500
TZOFFSETTO:-0600
TZNAME:CST
DTSTART:20231105T070000
END:STANDARD
BEGIN:DAYLIGHT
TZOFFSETFROM:-0600
TZOFFSETTO:-0500
TZNAME:CDT
DTSTART:20240310T080000
END:DAYLIGHT
BEGIN:STANDARD
TZOFFSETFROM:-0500
TZOFFSETTO:-0600
TZNAME:CST
DTSTART:20241103T070000
END:STANDARD
BEGIN:DAYLIGHT
TZOFFSETFROM:-0600
TZOFFSETTO:-0500
TZNAME:CDT
DTSTART:20250309T080000
END:DAYLIGHT
BEGIN:STANDARD
TZOFFSETFROM:-0500
TZOFFSETTO:-0600
TZNAME:CST
DTSTART:20251102T070000
END:STANDARD
END:VTIMEZONE
BEGIN:VEVENT
DTSTART;VALUE=DATE:20240715
DTEND;VALUE=DATE:20240716
DTSTAMP:20260423T192421
CREATED:20230825T194744Z
LAST-MODIFIED:20240216T180335Z
UID:69-1721001600-1721087999@lakewayphotographyclub.com
SUMMARY:2024 Lakeway Photo Festival Opens
DESCRIPTION:Photographers can begin to submit their entries to the Lakeway Photo Festival starting today. Stay tuned for more details!
URL:https://lakewayphotographyclub.com/event/2024-lakeway-photo-festival-opens/
CATEGORIES:Contest,Lakeway
ATTACH;FMTTYPE=image/png:https://lakewayphotographyclub.com/wp-content/uploads/2023/08/LPF2024_IG.png
END:VEVENT
BEGIN:VEVENT
DTSTART;VALUE=DATE:20240710
DTEND;VALUE=DATE:20240711
DTSTAMP:20260423T192421
CREATED:20240404T223258Z
LAST-MODIFIED:20240404T223331Z
UID:416-1720569600-1720655999@lakewayphotographyclub.com
SUMMARY:Texas Co-op Power Photo Contest: Mascots
DESCRIPTION:Texas Co-op Power Photo Contest: Mascots\nCONTEST ENDS JULY 10\, 2024 \nThe spirit of the game\, mascots get us off our feet and cheering for the home team. Show off the mascot mania of your hometown for our November issue. Enter Now. \nYou must be a member of a Texas electric cooperative to enter this contest.
URL:https://lakewayphotographyclub.com/event/contest-mascots/
LOCATION:Online Event
CATEGORIES:Contest
ATTACH;FMTTYPE=image/jpeg:https://lakewayphotographyclub.com/wp-content/uploads/2024/04/mascots.jpg
ORGANIZER;CN="Texas Co-op Power":MAILTO:https://texascooppower.com/contact/
END:VEVENT
BEGIN:VEVENT
DTSTART;VALUE=DATE:20240624
DTEND;VALUE=DATE:20240625
DTSTAMP:20260423T192421
CREATED:20240404T224833Z
LAST-MODIFIED:20250401T211339Z
UID:420-1719187200-1719273599@lakewayphotographyclub.com
SUMMARY:Naturescapes 2024 Photography Contest
DESCRIPTION:Naturescapes Photography Contest is celebrating its 20th year! The unique beauty of the natural areas within San Marcos inspired the first Naturescapes Photography Contest. The contest includes photographs taken in greenspaces and natural areas throughout Hays\, Blanco\, Comal\, Guadalupe\, Caldwell\, and Travis Counties. Contest sponsors are the Hill Country Photography Club and the Hays County Master Naturalist program. \nGoals of the contest and exhibit include increasing public awareness of the importance of protecting our natural world and giving photographers at all levels of experience a chance to capture\, share\, and receive recognition for beautiful and inspiring images. Suggested subjects include natural scenery\, wildlife\, plants\, and people and pets in the natural environment. \nAccepting entries from April 1st to June 24\, 2024. You may view the 2023 contest winners here. \nPrizes\n\n$150 for Best in Show\n$100 for Best Natural Waterscape\, sponsored by the Hays County Master Naturalists. The photo must feature a natural water feature such as a creek\, river\, pond or lake.\n$75 for Best Youth\n$75 each for 4 Awards of Excellence\n$25 each for 4 Awards of Merit\n\nThere are also special prizes sponsored by two partner organizations. \n\n$75 for Best San Marcos Natural Area\, sponsored by the San Marcos Greenbelt Alliance. The photo must be taken within one of San Marcos’ six natural areas: Purgatory Creek Natural Area\, Spring Lake Natural Area\, Ringtail Ridge Natural Area\, Schulle Canyon Natural Area\, Blanco Shoals Natural Area\, and Sessom Creek Park. You can find out more about these Natural Areas\, including their locations. To be eligible for this prize\, a photo must first be selected for the Naturescapes exhibition.\n$50 each for the Best Adult and the Best Youth Native Wildflower\, sponsored by The Hill Country Chapter of the Native Plant Society of Texas. To be eligible for this prize\, a photo must first be selected for the Naturescapes exhibition.\n\nThe contest is open to resident and visiting photographers of all ages. \n\n\n\nNaturescapes Exhibition\nSan Marcos Activity Center Walkers’ Gallery from September 28th – October 25th\, 2024\n\n\n\n\n\n\nNaturescapes Awards Reception\nSan Marcos Activity Center on Saturday\, September 28th\, 2024 from 5:00 pm – 7:00 pm
URL:https://lakewayphotographyclub.com/event/naturescapes-photography-contest/
LOCATION:Online Event
CATEGORIES:Contest
ATTACH;FMTTYPE=image/jpeg:https://lakewayphotographyclub.com/wp-content/uploads/2024/04/naturescapes.jpg
END:VEVENT
BEGIN:VEVENT
DTSTART;VALUE=DATE:20240610
DTEND;VALUE=DATE:20240611
DTSTAMP:20260423T192421
CREATED:20240216T175541Z
LAST-MODIFIED:20240216T175605Z
UID:399-1717977600-1718063999@lakewayphotographyclub.com
SUMMARY:Texas Co-op Power Photo Contest: Climbing High
DESCRIPTION:Texas Co-op Power Photo Contest: Parenthood\nCONTEST ENDS JUNE 10\, 2024 \nBoulder than the rest\, Texans love a good cliffhanger. Harness your strength and follow that terrain of thought by sending in your favorite climbing shots for the October issue. Enter Now. \nYou must be a member of a Texas electric cooperative to enter this contest. \n 
URL:https://lakewayphotographyclub.com/event/contest-climbing-high/
LOCATION:Online Event
CATEGORIES:Contest
ATTACH;FMTTYPE=image/jpeg:https://lakewayphotographyclub.com/wp-content/uploads/2024/02/climbing.jpg
ORGANIZER;CN="Texas Co-op Power":MAILTO:https://texascooppower.com/contact/
END:VEVENT
BEGIN:VEVENT
DTSTART;TZID=America/Chicago:20240529T173000
DTEND;TZID=America/Chicago:20240529T183000
DTSTAMP:20260423T192421
CREATED:20230829T174545Z
LAST-MODIFIED:20240513T165930Z
UID:185-1717003800-1717007400@lakewayphotographyclub.com
SUMMARY:Lakeway Photography Club Meeting
DESCRIPTION:Lakeway Photography Club (LPC) hosts quarterly meetings at the Lake Travis Community Library. The LPC is an informal group of photographers of all ages and experience who are interested in exploring photography as an art medium. We strive to help everyone improve their individual photographic styles\, as well as to learn more about the art and science of both film and digital photography. Our meetings are free and open to the public. \nWe will discuss landscape photography and review upcoming local photo festivals. For this meeting’s Spotlight\, please submit your “Skyscapes” themed photos (including your solar eclipse pix!) on our Facebook page – deadline now extended to 5/20/24.
URL:https://lakewayphotographyclub.com/event/lakeway-photography-club-meeting-3/
LOCATION:Lake Travis Community Library\, 1938 Lohmans Crossing\, Lakeway\, TX\, 78734\, United States
CATEGORIES:Meeting
ATTACH;FMTTYPE=image/png:https://lakewayphotographyclub.com/wp-content/uploads/2023/08/LPC-Spring-Meeting-IG.png
ORGANIZER;CN="Lakeway Photography Club":MAILTO:lakewayphotographyclub@gmail.com
END:VEVENT
BEGIN:VEVENT
DTSTART;VALUE=DATE:20240510
DTEND;VALUE=DATE:20240511
DTSTAMP:20260423T192421
CREATED:20240208T193925Z
LAST-MODIFIED:20240216T175619Z
UID:382-1715299200-1715385599@lakewayphotographyclub.com
SUMMARY:Texas Co-op Power Photo Contest: Parenthood
DESCRIPTION:Texas Co-op Power Photo Contest: Parenthood\nCONTEST ENDS MAY 10\, 2024 \nWhether your little ankle-biters are out driving tractors or running at you with a mud pie\, moments like these are gone too quickly. Show us what being a parent means to you. We’ll share our favorites in the September issue. Enter Now. \nYou must be a member of a Texas electric cooperative to enter this contest.
URL:https://lakewayphotographyclub.com/event/contest-parenthood/
LOCATION:Online Event
CATEGORIES:Contest
ATTACH;FMTTYPE=image/jpeg:https://lakewayphotographyclub.com/wp-content/uploads/2024/02/parenthood.jpg
ORGANIZER;CN="Texas Co-op Power":MAILTO:https://texascooppower.com/contact/
END:VEVENT
BEGIN:VEVENT
DTSTART;VALUE=DATE:20240410
DTEND;VALUE=DATE:20240411
DTSTAMP:20260423T192421
CREATED:20240101T213030Z
LAST-MODIFIED:20240208T194038Z
UID:345-1712707200-1712793599@lakewayphotographyclub.com
SUMMARY:Texas Co-op Power Photo Contest:  Textures
DESCRIPTION:Texas Co-op Power Photo Contest: Textures\nCONTEST ENDS APRIL 10\, 2024 \n\nLight glinting off a mirrored surface\, pebbles along the bottom of a crystal-clear pond—some textures beckon us to linger and glide a hand across the surface. The August issue will feature winning photos of the textures that surround us. Enter Now. \nYou must be a member of a Texas electric cooperative to enter this contest. \n  \n\n 
URL:https://lakewayphotographyclub.com/event/texas-co-op-power-photo-contest-textures/
LOCATION:Online Event
CATEGORIES:Contest
ATTACH;FMTTYPE=image/jpeg:https://lakewayphotographyclub.com/wp-content/uploads/2024/01/textures.jpg
ORGANIZER;CN="Texas Co-op Power":MAILTO:https://texascooppower.com/contact/
END:VEVENT
BEGIN:VEVENT
DTSTART;TZID=America/Chicago:20240408T123000
DTEND;TZID=America/Chicago:20240408T133000
DTSTAMP:20260423T192421
CREATED:20240210T040045Z
LAST-MODIFIED:20240210T040045Z
UID:392-1712579400-1712583000@lakewayphotographyclub.com
SUMMARY:Total Solar Eclipse
DESCRIPTION:The sun is 400 times bigger than the moon\, but it’s also 400 times farther away from us—a glorious cosmic coincidence that has the moon precisely covering the sun’s face when the two align. The result is a total solar eclipse. The alignment is visible only within a narrow band\, the path of totality\, which will arc across North America on April 8. (The last total eclipse on the continent was in August 2017.) More than 40 million people live within the totality path\, and millions more are a few hours away. Spring weather will affect visibility; much of the northeastern U.S. and maritime Canada tends to be cloudy this time of year. Remember that “no one who has ever traveled to see totality has regretted the effort.” \nPATH OF TOTALITY\nThe moon’s shadow hits land in Sinaloa\, Mexico\, and runs up to Labrador\, Canada\, crossing the continent in just an hour and 35 minutes. Within the shaded region\, totality lasts longest at the centerline\, reaching four and a half minutes in some places.
URL:https://lakewayphotographyclub.com/event/total-solar-eclipse/
LOCATION:Online Event
CATEGORIES:Outdoor,Special Event
ATTACH;FMTTYPE=image/png:https://lakewayphotographyclub.com/wp-content/uploads/2023/10/eclipse.png
ORGANIZER;CN="Lakeway Photography Club":MAILTO:lakewayphotographyclub@gmail.com
END:VEVENT
BEGIN:VEVENT
DTSTART;VALUE=DATE:20240310
DTEND;VALUE=DATE:20240311
DTSTAMP:20260423T192421
CREATED:20231115T052757Z
LAST-MODIFIED:20240101T213143Z
UID:338-1710028800-1710115199@lakewayphotographyclub.com
SUMMARY:Texas Co-op Power Photo Contest:  Shells and Scales
DESCRIPTION:Texas Co-op Power Photo Contest: Shells and Scales\nCONTEST ENDS MARCH 10\, 2024 \n\nNature lovers\, this one’s for you! We want to see what creeps\, slithers and swims its way into your shot for our July issue. Enter Now. \nYou must be a member of a Texas electric cooperative to enter this contest.
URL:https://lakewayphotographyclub.com/event/texas-co-op-power-photo-contest-shells-and-scales/
LOCATION:Online Event
CATEGORIES:Contest
ATTACH;FMTTYPE=image/png:https://lakewayphotographyclub.com/wp-content/uploads/2023/11/shellsscales.png
ORGANIZER;CN="Texas Co-op Power":MAILTO:https://texascooppower.com/contact/
END:VEVENT
BEGIN:VEVENT
DTSTART;TZID=America/Chicago:20240309T133000
DTEND;TZID=America/Chicago:20240309T150000
DTSTAMP:20260423T192421
CREATED:20230829T175630Z
LAST-MODIFIED:20240107T031441Z
UID:189-1709991000-1709996400@lakewayphotographyclub.com
SUMMARY:Art Reception: Women in Photography Exhibit
DESCRIPTION:Join us to celebrate the talented photographers honoring Women’s History Month at the “Women in Photography“ Artist Reception on March 9th from 1:30 to 3pm at the Lake Travis Community Library. This group show of stunning photographs by local photographers is inspired by women’s history\, issues and rights like voting\, equality\, health\, beauty\, motherhood\, etc. We look forward to seeing you there!
URL:https://lakewayphotographyclub.com/event/art-reception-women-in-photography-exhibit/
LOCATION:Lake Travis Community Library\, 1938 Lohmans Crossing\, Lakeway\, TX\, 78734\, United States
CATEGORIES:Exhibit
ATTACH;FMTTYPE=image/png:https://lakewayphotographyclub.com/wp-content/uploads/2023/08/WomenInPhotography-Insta-2.png
END:VEVENT
BEGIN:VEVENT
DTSTART;VALUE=DATE:20240301
DTEND;VALUE=DATE:20240302
DTSTAMP:20260423T192421
CREATED:20240209T210122Z
LAST-MODIFIED:20240209T210233Z
UID:389-1709251200-1709337599@lakewayphotographyclub.com
SUMMARY:Women in Photography Exhibit Opens
DESCRIPTION:The Lakeway Arts District presents “Women in Photography”\, a special photo exhibition celebrating Women’s History Month from March 1st – March 30th at the Lake Travis Community Library. This creative exhibit includes dramatic photos both by women photographers and portraits of women taken by local photographers. The exhibit was inspired by women’s history\, health\, beauty\, motherhood and equality. We invite you to join us at the Artists Reception on March 9th from 1:30-3pm. Light refreshments will be served and it is open to the public. \n\n\nFeel free to enjoy this exhibit anytime in March during regular library business hours. Also please visit the sister exhibit “Women in Art 2024” at the Hive Gallery in the Hill Country Galleria from February 3rd to March 22nd to see the stunning artworks of 68 local women artists.
URL:https://lakewayphotographyclub.com/event/women-in-photography/
LOCATION:Lake Travis Community Library\, 1938 Lohmans Crossing\, Lakeway\, TX\, 78734\, United States
CATEGORIES:Exhibit,Lakeway
ATTACH;FMTTYPE=image/png:https://lakewayphotographyclub.com/wp-content/uploads/2024/02/Women-In-Photography-SQ.png
END:VEVENT
BEGIN:VEVENT
DTSTART;TZID=America/Chicago:20240221T173000
DTEND;TZID=America/Chicago:20240221T183000
DTSTAMP:20260423T192421
CREATED:20230829T174409Z
LAST-MODIFIED:20240208T203751Z
UID:183-1708536600-1708540200@lakewayphotographyclub.com
SUMMARY:Lakeway Photography Club Meeting
DESCRIPTION:Lakeway Photography Club (LPC) hosts quarterly meetings at the Lake Travis Community Library. The LPC is an informal group of photographers of all ages and experience who are interested in exploring photography as an art medium. We strive to help everyone improve their individual photographic styles\, as well as to learn more about the art and science of both film and digital photography. Our meetings are free and open to the public. \nWe will have a demonstration of the Adobe Lightroom photo editing software and share tips on photographing the total solar eclipse on April 8th. For this meeting’s photo share\, submit your “Holidays” theme photos on our Facebook page. We also hope to see you on March 9th from 1:30-3 PM at the reception for the Women in Photography exhibit March 1-30 at the library.
URL:https://lakewayphotographyclub.com/event/lakeway-photography-club-meeting-2/
LOCATION:Lake Travis Community Library\, 1938 Lohmans Crossing\, Lakeway\, TX\, 78734\, United States
CATEGORIES:Meeting
ATTACH;FMTTYPE=image/png:https://lakewayphotographyclub.com/wp-content/uploads/2023/08/LPC-Instagram-Feb.png
ORGANIZER;CN="Lakeway Photography Club":MAILTO:lakewayphotographyclub@gmail.com
END:VEVENT
BEGIN:VEVENT
DTSTART;VALUE=DATE:20240210
DTEND;VALUE=DATE:20240211
DTSTAMP:20260423T192421
CREATED:20231102T001240Z
LAST-MODIFIED:20231102T001240Z
UID:314-1707523200-1707609599@lakewayphotographyclub.com
SUMMARY:Texas Co-op Power Photo Contest:  Food and Cooking
DESCRIPTION:Texas Co-op Power Photo Contest: Food and Cooking\nCONTEST ENDS FEBRUARY 10\, 2024 \n\nFlambéd\, fried\, boiled\, steamed\, baked or grilled\, Texas cuisine is as bold and diverse as the people who live here. Let us know what tickles your tastebuds for our June issue. Enter Now. \nYou must be a member of a Texas electric cooperative to enter this contest.
URL:https://lakewayphotographyclub.com/event/texas-co-op-power-photo-contest-food-and-cooking/
LOCATION:Online Event
CATEGORIES:Contest
ATTACH;FMTTYPE=image/jpeg:https://lakewayphotographyclub.com/wp-content/uploads/2023/11/foodandcooking.jpg
ORGANIZER;CN="Texas Co-op Power":MAILTO:https://texascooppower.com/contact/
END:VEVENT
BEGIN:VEVENT
DTSTART;VALUE=DATE:20240110
DTEND;VALUE=DATE:20240111
DTSTAMP:20260423T192421
CREATED:20230929T190103Z
LAST-MODIFIED:20230929T190103Z
UID:248-1704844800-1704931199@lakewayphotographyclub.com
SUMMARY:Texas Co-op Power Photo Contest:  Rides
DESCRIPTION:Texas Co-op Power Photo Contest:  Rides\nCONTEST ENDS JANUARY 10\, 2024 \n\nFerris wheels\, go carts\, bicycles\, horses—of the hoofed or steel variety—Texans love to go for a spin. Grab your brain bucket\, and let’s ride! Look for the winners in the May issue. Enter Now. \nYou must be a member of a Texas electric cooperative to enter this contest.
URL:https://lakewayphotographyclub.com/event/texas-co-op-power-photo-contest-rides/
LOCATION:Online Event
CATEGORIES:Contest
ATTACH;FMTTYPE=image/jpeg:https://lakewayphotographyclub.com/wp-content/uploads/2023/09/horse.jpg
ORGANIZER;CN="Texas Co-op Power":MAILTO:https://texascooppower.com/contact/
END:VEVENT
BEGIN:VEVENT
DTSTART;VALUE=DATE:20231210
DTEND;VALUE=DATE:20231211
DTSTAMP:20260423T192421
CREATED:20230929T190003Z
LAST-MODIFIED:20230929T190115Z
UID:243-1702166400-1702252799@lakewayphotographyclub.com
SUMMARY:Texas Co-op Power Photo Contest:  Pollinators
DESCRIPTION:Texas Co-op Power Photo Contest:  Pollinators\nCONTEST ENDS DECEMBER 10\, 2023 \n\nFound in deep dark caves and sunny meadows\, bats\, bees\, hummingbirds\, butterflies\, moths\, ants\, wasps\, flies and beetles work busily\, spreading pollen as they go. We’ll share your best shots of Texas pollinators in the April issue. Enter Now. \nYou must be a member of a Texas electric cooperative to enter this contest.
URL:https://lakewayphotographyclub.com/event/texas-co-op-power-photo-contest-pollinators/
LOCATION:Online Event
CATEGORIES:Contest
ATTACH;FMTTYPE=image/jpeg:https://lakewayphotographyclub.com/wp-content/uploads/2023/09/Pollination_Bee_Dandelion_Zoom1.jpg
ORGANIZER;CN="Texas Co-op Power":MAILTO:https://texascooppower.com/contact/
END:VEVENT
BEGIN:VEVENT
DTSTART;TZID=America/Chicago:20231115T173000
DTEND;TZID=America/Chicago:20231115T183000
DTSTAMP:20260423T192421
CREATED:20230829T173904Z
LAST-MODIFIED:20230930T221417Z
UID:178-1700069400-1700073000@lakewayphotographyclub.com
SUMMARY:Lakeway Photography Club Meeting
DESCRIPTION:Lakeway Photography Club (LPC) hosts quarterly meetings at the Lake Travis Community Library. The LPC is an informal group of photographers of all ages and experience who are interested in exploring photography as an art medium. We strive to help everyone improve their individual photographic styles\, as well as to learn more about the art and science of both film and digital photography. We’d love to display the recent photography work of our club\, so please send in your photos and we will share them during our meeting. If you would like to request a future topic or have a specific photography question\, please let us know too. Our meetings are free and open to the public. \nRSVP online.
URL:https://lakewayphotographyclub.com/event/lakeway-photography-club-meeting/
LOCATION:Lake Travis Community Library\, 1938 Lohmans Crossing\, Lakeway\, TX\, 78734\, United States
CATEGORIES:Meeting
ATTACH;FMTTYPE=image/png:https://lakewayphotographyclub.com/wp-content/uploads/2023/08/LPC-Instagram.png
ORGANIZER;CN="Lakeway Photography Club":MAILTO:lakewayphotographyclub@gmail.com
END:VEVENT
BEGIN:VEVENT
DTSTART;VALUE=DATE:20231110
DTEND;VALUE=DATE:20231111
DTSTAMP:20260423T192421
CREATED:20230929T185518Z
LAST-MODIFIED:20230929T185518Z
UID:240-1699574400-1699660799@lakewayphotographyclub.com
SUMMARY:Texas Co-op Power Photo Contest:  Architecture
DESCRIPTION:Texas Co-op Power Photo Contest:  Architecture\n\n\n\n\n\n\n\n\nCONTEST ENDS NOVEMBER 10\, 2023 \n\nTemples\, towers\, stadiums\, libraries and courthouses are just a few examples of the fantastic architecture Texas has to offer. Show us the structures that make you turn around and go back for another look! Find the winners in the March issue. Enter Now. \nYou must be a member of a Texas electric cooperative to enter this contest.
URL:https://lakewayphotographyclub.com/event/texas-co-op-power-photo-contest-architecture/
LOCATION:Online Event
CATEGORIES:Contest
ATTACH;FMTTYPE=image/jpeg:https://lakewayphotographyclub.com/wp-content/uploads/2023/09/architecture.jpg
ORGANIZER;CN="Texas Co-op Power":MAILTO:https://texascooppower.com/contact/
END:VEVENT
BEGIN:VEVENT
DTSTART;TZID=America/Chicago:20231014T110000
DTEND;TZID=America/Chicago:20231014T130000
DTSTAMP:20260423T192421
CREATED:20231008T213304Z
LAST-MODIFIED:20231008T213304Z
UID:295-1697281200-1697288400@lakewayphotographyclub.com
SUMMARY:Annular Solar Eclipse
DESCRIPTION:An annular solar eclipse occurs when the Moon passes between the Sun and Earth while at its farthest point from Earth. Because the Moon is farther away from Earth\, it does not completely block the Sun. This will create a “ring of fire” effect in the sky for those standing in the path of annularity. During an annular eclipse\, it is never safe to look directly at the Sun without specialized eye protection designed for solar viewing. \n\n\n\n\nLocation\n\n\nPartial Eclipse Begins\n\n\nAnnularity Begins\n\n\nMaximum\n\n\nAnnularity Ends\n\n\nPartial Eclipse Ends\n\n\n\n\nLakeway\, Texas\n\n\n10:23 a.m. CDT\n\n\n11:52 a.m. CDT\n\n\n11:54 a.m. CDT\n\n\n11:56 a.m. CDT\n\n\n1:33 p.m. CDT
URL:https://lakewayphotographyclub.com/event/annular-solar-eclipse/
CATEGORIES:Outdoor,Special Event
ATTACH;FMTTYPE=image/png:https://lakewayphotographyclub.com/wp-content/uploads/2023/10/eclipse.png
END:VEVENT
BEGIN:VEVENT
DTSTART;VALUE=DATE:20231010
DTEND;VALUE=DATE:20231011
DTSTAMP:20260423T192421
CREATED:20230929T184935Z
LAST-MODIFIED:20230929T185319Z
UID:236-1696896000-1696982399@lakewayphotographyclub.com
SUMMARY:Texas Co-op Power Photo Contest: Vibrant Color
DESCRIPTION:Texas Co-op Power Photo Contest: Vibrant Color\nCONTEST ENDS OCTOBER 10\, 2023. \n\nFrom the greatest heights to the deepest depths\, our world is full of color. We’ll celebrate the vibrant pigments and shimmering shades of our environments\, both human-made and natural\, in the February issue. Enter Now. \nYou must be a member of a Texas electric cooperative to enter this contest.
URL:https://lakewayphotographyclub.com/event/texas-co-op-power-photo-contest-vibrant-color/
LOCATION:Online Event
CATEGORIES:Contest
ATTACH;FMTTYPE=image/jpeg:https://lakewayphotographyclub.com/wp-content/uploads/2023/09/vibrant-color-400sq-353x353-1.jpg
ORGANIZER;CN="Texas Co-op Power":MAILTO:https://texascooppower.com/contact/
END:VEVENT
BEGIN:VEVENT
DTSTART;TZID=America/Chicago:20230920T103000
DTEND;TZID=America/Chicago:20230920T113000
DTSTAMP:20260423T192421
CREATED:20230830T150818Z
LAST-MODIFIED:20230830T150818Z
UID:217-1695205800-1695209400@lakewayphotographyclub.com
SUMMARY:LTCL Online: iPhone Photography
DESCRIPTION:Join a Lake Travis Community Library staff member for a live online Tech Tutorial! There will be time at the end of the tutorial for general tech Q&A. \nTopic examples: \n\n\n\niPhone Tips & Tricks\nThe Libby App\nGoogle Drive\, Sheets\, and Slides\nMicrosoft OneDrive\, Excel\, and PowerPoint\n\n\n\nIf you’d like to request a future topic\, please email ljoiner@laketravislibrary.org. \nPlease register using this Zoom link:\nhttps://us02web.zoom.us/meeting/register/vpMlc-6qrj8tUDt0yAzNULLJfU6ASWK-UQ
URL:https://lakewayphotographyclub.com/event/ltcl-online-iphone-photography/
LOCATION:Online Event
ATTACH;FMTTYPE=image/webp:https://lakewayphotographyclub.com/wp-content/uploads/2023/08/iphone-photography.webp
END:VEVENT
END:VCALENDAR