BEGIN:VCALENDAR
VERSION:2.0
PRODID:-//Lakeway Photography Club - ECPv6.15.20//NONSGML v1.0//EN
CALSCALE:GREGORIAN
METHOD:PUBLISH
X-ORIGINAL-URL:https://lakewayphotographyclub.com
X-WR-CALDESC:Events for Lakeway Photography Club
REFRESH-INTERVAL;VALUE=DURATION:PT1H
X-Robots-Tag:noindex
X-PUBLISHED-TTL:PT1H
BEGIN:VTIMEZONE
TZID:America/Chicago
BEGIN:DAYLIGHT
TZOFFSETFROM:-0600
TZOFFSETTO:-0500
TZNAME:CDT
DTSTART:20230312T080000
END:DAYLIGHT
BEGIN:STANDARD
TZOFFSETFROM:-0500
TZOFFSETTO:-0600
TZNAME:CST
DTSTART:20231105T070000
END:STANDARD
BEGIN:DAYLIGHT
TZOFFSETFROM:-0600
TZOFFSETTO:-0500
TZNAME:CDT
DTSTART:20240310T080000
END:DAYLIGHT
BEGIN:STANDARD
TZOFFSETFROM:-0500
TZOFFSETTO:-0600
TZNAME:CST
DTSTART:20241103T070000
END:STANDARD
BEGIN:DAYLIGHT
TZOFFSETFROM:-0600
TZOFFSETTO:-0500
TZNAME:CDT
DTSTART:20250309T080000
END:DAYLIGHT
BEGIN:STANDARD
TZOFFSETFROM:-0500
TZOFFSETTO:-0600
TZNAME:CST
DTSTART:20251102T070000
END:STANDARD
END:VTIMEZONE
BEGIN:VEVENT
DTSTART;VALUE=DATE:20240301
DTEND;VALUE=DATE:20240302
DTSTAMP:20260424T211425
CREATED:20240209T210122Z
LAST-MODIFIED:20240209T210233Z
UID:389-1709251200-1709337599@lakewayphotographyclub.com
SUMMARY:Women in Photography Exhibit Opens
DESCRIPTION:The Lakeway Arts District presents “Women in Photography”\, a special photo exhibition celebrating Women’s History Month from March 1st – March 30th at the Lake Travis Community Library. This creative exhibit includes dramatic photos both by women photographers and portraits of women taken by local photographers. The exhibit was inspired by women’s history\, health\, beauty\, motherhood and equality. We invite you to join us at the Artists Reception on March 9th from 1:30-3pm. Light refreshments will be served and it is open to the public. \n\n\nFeel free to enjoy this exhibit anytime in March during regular library business hours. Also please visit the sister exhibit “Women in Art 2024” at the Hive Gallery in the Hill Country Galleria from February 3rd to March 22nd to see the stunning artworks of 68 local women artists.
URL:https://lakewayphotographyclub.com/event/women-in-photography/
LOCATION:Lake Travis Community Library\, 1938 Lohmans Crossing\, Lakeway\, TX\, 78734\, United States
CATEGORIES:Exhibit,Lakeway
ATTACH;FMTTYPE=image/png:https://lakewayphotographyclub.com/wp-content/uploads/2024/02/Women-In-Photography-SQ.png
END:VEVENT
BEGIN:VEVENT
DTSTART;TZID=America/Chicago:20240309T133000
DTEND;TZID=America/Chicago:20240309T150000
DTSTAMP:20260424T211425
CREATED:20230829T175630Z
LAST-MODIFIED:20240107T031441Z
UID:189-1709991000-1709996400@lakewayphotographyclub.com
SUMMARY:Art Reception: Women in Photography Exhibit
DESCRIPTION:Join us to celebrate the talented photographers honoring Women’s History Month at the “Women in Photography“ Artist Reception on March 9th from 1:30 to 3pm at the Lake Travis Community Library. This group show of stunning photographs by local photographers is inspired by women’s history\, issues and rights like voting\, equality\, health\, beauty\, motherhood\, etc. We look forward to seeing you there!
URL:https://lakewayphotographyclub.com/event/art-reception-women-in-photography-exhibit/
LOCATION:Lake Travis Community Library\, 1938 Lohmans Crossing\, Lakeway\, TX\, 78734\, United States
CATEGORIES:Exhibit
ATTACH;FMTTYPE=image/png:https://lakewayphotographyclub.com/wp-content/uploads/2023/08/WomenInPhotography-Insta-2.png
END:VEVENT
BEGIN:VEVENT
DTSTART;VALUE=DATE:20240310
DTEND;VALUE=DATE:20240311
DTSTAMP:20260424T211425
CREATED:20231115T052757Z
LAST-MODIFIED:20240101T213143Z
UID:338-1710028800-1710115199@lakewayphotographyclub.com
SUMMARY:Texas Co-op Power Photo Contest:  Shells and Scales
DESCRIPTION:Texas Co-op Power Photo Contest: Shells and Scales\nCONTEST ENDS MARCH 10\, 2024 \n\nNature lovers\, this one’s for you! We want to see what creeps\, slithers and swims its way into your shot for our July issue. Enter Now. \nYou must be a member of a Texas electric cooperative to enter this contest.
URL:https://lakewayphotographyclub.com/event/texas-co-op-power-photo-contest-shells-and-scales/
LOCATION:Online Event
CATEGORIES:Contest
ATTACH;FMTTYPE=image/png:https://lakewayphotographyclub.com/wp-content/uploads/2023/11/shellsscales.png
ORGANIZER;CN="Texas Co-op Power":MAILTO:https://texascooppower.com/contact/
END:VEVENT
END:VCALENDAR