BEGIN:VCALENDAR
VERSION:2.0
PRODID:-//Lakeway Photography Club - ECPv6.15.20//NONSGML v1.0//EN
CALSCALE:GREGORIAN
METHOD:PUBLISH
X-WR-CALNAME:Lakeway Photography Club
X-ORIGINAL-URL:https://lakewayphotographyclub.com
X-WR-CALDESC:Events for Lakeway Photography Club
REFRESH-INTERVAL;VALUE=DURATION:PT1H
X-Robots-Tag:noindex
X-PUBLISHED-TTL:PT1H
BEGIN:VTIMEZONE
TZID:America/Chicago
BEGIN:DAYLIGHT
TZOFFSETFROM:-0600
TZOFFSETTO:-0500
TZNAME:CDT
DTSTART:20230312T080000
END:DAYLIGHT
BEGIN:STANDARD
TZOFFSETFROM:-0500
TZOFFSETTO:-0600
TZNAME:CST
DTSTART:20231105T070000
END:STANDARD
BEGIN:DAYLIGHT
TZOFFSETFROM:-0600
TZOFFSETTO:-0500
TZNAME:CDT
DTSTART:20240310T080000
END:DAYLIGHT
BEGIN:STANDARD
TZOFFSETFROM:-0500
TZOFFSETTO:-0600
TZNAME:CST
DTSTART:20241103T070000
END:STANDARD
BEGIN:DAYLIGHT
TZOFFSETFROM:-0600
TZOFFSETTO:-0500
TZNAME:CDT
DTSTART:20250309T080000
END:DAYLIGHT
BEGIN:STANDARD
TZOFFSETFROM:-0500
TZOFFSETTO:-0600
TZNAME:CST
DTSTART:20251102T070000
END:STANDARD
END:VTIMEZONE
BEGIN:VEVENT
DTSTART;VALUE=DATE:20240810
DTEND;VALUE=DATE:20240811
DTSTAMP:20260424T150248
CREATED:20240502T155851Z
LAST-MODIFIED:20240502T160155Z
UID:431-1723248000-1723334399@lakewayphotographyclub.com
SUMMARY:Texas Co-op Power Photo Contest: Young Photographers
DESCRIPTION:Texas Co-op Power Photo Contest: Young Photographers\nCONTEST ENDS AUGUST 10\, 2024 \nGreat things come in small packages. We’ll highlight the best work of your young photographers\, 13 and under\, in the December issue. Enter Now. \nYou must be a member of a Texas electric cooperative to enter this contest.
URL:https://lakewayphotographyclub.com/event/contest-young-photographers/
LOCATION:Online Event
CATEGORIES:Contest
ATTACH;FMTTYPE=image/png:https://lakewayphotographyclub.com/wp-content/uploads/2024/05/Texas-Co-op-Photo-Contests.png
ORGANIZER;CN="Texas Co-op Power":MAILTO:https://texascooppower.com/contact/
END:VEVENT
BEGIN:VEVENT
DTSTART;TZID=America/Chicago:20240821T173000
DTEND;TZID=America/Chicago:20240821T183000
DTSTAMP:20260424T150248
CREATED:20230829T174710Z
LAST-MODIFIED:20230930T221458Z
UID:187-1724261400-1724265000@lakewayphotographyclub.com
SUMMARY:Lakeway Photography Club Meeting
DESCRIPTION:Lakeway Photography Club (LPC) hosts quarterly meetings at the Lake Travis Community Library. The LPC is an informal group of photographers of all ages and experience who are interested in exploring photography as an art medium. We strive to help everyone improve their individual photographic styles\, as well as to learn more about the art and science of both film and digital photography. Our meetings are free and open to the public. \nStay tuned for more details on our August meeting.
URL:https://lakewayphotographyclub.com/event/lakeway-photography-club-meeting-4/
LOCATION:Lake Travis Community Library\, 1938 Lohmans Crossing\, Lakeway\, TX\, 78734\, United States
CATEGORIES:Meeting,Membership
ATTACH;FMTTYPE=image/png:https://lakewayphotographyclub.com/wp-content/uploads/2023/08/LPC-Instagram-Aug.png
ORGANIZER;CN="Lakeway Photography Club":MAILTO:lakewayphotographyclub@gmail.com
END:VEVENT
BEGIN:VEVENT
DTSTART;VALUE=DATE:20240831
DTEND;VALUE=DATE:20240901
DTSTAMP:20260424T150248
CREATED:20230825T194559Z
LAST-MODIFIED:20240216T180435Z
UID:66-1725062400-1725148799@lakewayphotographyclub.com
SUMMARY:Last Day to Enter the 2024 Lakeway Photo Festival
DESCRIPTION:Last day to submit your entries for the 2024 Lakeway Photo Festival!
URL:https://lakewayphotographyclub.com/event/last-day-to-enter-the-2024-lakeway-photo-festival/
CATEGORIES:Contest,Lakeway
ATTACH;FMTTYPE=image/jpeg:https://lakewayphotographyclub.com/wp-content/uploads/2023/11/ruthorkin.jpg
END:VEVENT
END:VCALENDAR