BEGIN:VCALENDAR
VERSION:2.0
PRODID:-//Lakeway Photography Club - ECPv6.15.20//NONSGML v1.0//EN
CALSCALE:GREGORIAN
METHOD:PUBLISH
X-WR-CALNAME:Lakeway Photography Club
X-ORIGINAL-URL:https://lakewayphotographyclub.com
X-WR-CALDESC:Events for Lakeway Photography Club
REFRESH-INTERVAL;VALUE=DURATION:PT1H
X-Robots-Tag:noindex
X-PUBLISHED-TTL:PT1H
BEGIN:VTIMEZONE
TZID:America/Chicago
BEGIN:DAYLIGHT
TZOFFSETFROM:-0600
TZOFFSETTO:-0500
TZNAME:CDT
DTSTART:20230312T080000
END:DAYLIGHT
BEGIN:STANDARD
TZOFFSETFROM:-0500
TZOFFSETTO:-0600
TZNAME:CST
DTSTART:20231105T070000
END:STANDARD
BEGIN:DAYLIGHT
TZOFFSETFROM:-0600
TZOFFSETTO:-0500
TZNAME:CDT
DTSTART:20240310T080000
END:DAYLIGHT
BEGIN:STANDARD
TZOFFSETFROM:-0500
TZOFFSETTO:-0600
TZNAME:CST
DTSTART:20241103T070000
END:STANDARD
BEGIN:DAYLIGHT
TZOFFSETFROM:-0600
TZOFFSETTO:-0500
TZNAME:CDT
DTSTART:20250309T080000
END:DAYLIGHT
BEGIN:STANDARD
TZOFFSETFROM:-0500
TZOFFSETTO:-0600
TZNAME:CST
DTSTART:20251102T070000
END:STANDARD
END:VTIMEZONE
BEGIN:VEVENT
DTSTART;VALUE=DATE:20241210
DTEND;VALUE=DATE:20241211
DTSTAMP:20260424T095134
CREATED:20240907T214347Z
LAST-MODIFIED:20240907T214423Z
UID:531-1733788800-1733875199@lakewayphotographyclub.com
SUMMARY:Texas Co-op Power Photo Contest: Characters
DESCRIPTION:Texas Co-op Power Photo Contest: Characters\nCONTEST ENDS DECEMBER 10\, 2024 \nTexas personalities are as big and diverse as the landscape. For April\, showcase the characters in your world. Enter Now. \nYou must be a member of a Texas electric cooperative to enter this contest. \n\nOriginal photography only. Images generated by computer/AI or heavily manipulated by editing software will be disqualified.
URL:https://lakewayphotographyclub.com/event/contest-characters/
LOCATION:Online Event
CATEGORIES:Contest
ATTACH;FMTTYPE=image/jpeg:https://lakewayphotographyclub.com/wp-content/uploads/2024/09/bigtex-jpg.webp
ORGANIZER;CN="Texas Co-op Power":MAILTO:https://texascooppower.com/contact/
END:VEVENT
END:VCALENDAR