BEGIN:VCALENDAR
VERSION:2.0
PRODID:-//Lakeway Photography Club - ECPv6.15.20//NONSGML v1.0//EN
CALSCALE:GREGORIAN
METHOD:PUBLISH
X-ORIGINAL-URL:https://lakewayphotographyclub.com
X-WR-CALDESC:Events for Lakeway Photography Club
REFRESH-INTERVAL;VALUE=DURATION:PT1H
X-Robots-Tag:noindex
X-PUBLISHED-TTL:PT1H
BEGIN:VTIMEZONE
TZID:America/Chicago
BEGIN:DAYLIGHT
TZOFFSETFROM:-0600
TZOFFSETTO:-0500
TZNAME:CDT
DTSTART:20240310T080000
END:DAYLIGHT
BEGIN:STANDARD
TZOFFSETFROM:-0500
TZOFFSETTO:-0600
TZNAME:CST
DTSTART:20241103T070000
END:STANDARD
BEGIN:DAYLIGHT
TZOFFSETFROM:-0600
TZOFFSETTO:-0500
TZNAME:CDT
DTSTART:20250309T080000
END:DAYLIGHT
BEGIN:STANDARD
TZOFFSETFROM:-0500
TZOFFSETTO:-0600
TZNAME:CST
DTSTART:20251102T070000
END:STANDARD
BEGIN:DAYLIGHT
TZOFFSETFROM:-0600
TZOFFSETTO:-0500
TZNAME:CDT
DTSTART:20260308T080000
END:DAYLIGHT
BEGIN:STANDARD
TZOFFSETFROM:-0500
TZOFFSETTO:-0600
TZNAME:CST
DTSTART:20261101T070000
END:STANDARD
END:VTIMEZONE
BEGIN:VEVENT
DTSTART;VALUE=DATE:20250210
DTEND;VALUE=DATE:20250211
DTSTAMP:20260424T071952
CREATED:20241016T181739Z
LAST-MODIFIED:20241016T181756Z
UID:573-1739145600-1739231999@lakewayphotographyclub.com
SUMMARY:Texas Co-op Power Photo Contest: Family Vacation
DESCRIPTION:Texas Co-op Power Photo Contest: Family Vacation\nContest ends February 10\, 2025. \n\nPack your bags and load up the car\, it’s time for a family trip. For June\, show us how you like to get away and spend time with loved ones. Enter Now. \n\nYou must be a member of a Texas electric cooperative to enter this contest. \nOriginal photography only. Images generated by computer/AI or heavily manipulated by editing software will be disqualified.
URL:https://lakewayphotographyclub.com/event/contest-family-vacation/
LOCATION:Online Event
CATEGORIES:Contest
ATTACH;FMTTYPE=image/jpeg:https://lakewayphotographyclub.com/wp-content/uploads/2024/10/familyvacation-jpg.webp
ORGANIZER;CN="Texas Co-op Power":MAILTO:https://texascooppower.com/contact/
END:VEVENT
END:VCALENDAR