BEGIN:VCALENDAR
VERSION:2.0
PRODID:-//Lakeway Photography Club - ECPv6.15.20//NONSGML v1.0//EN
CALSCALE:GREGORIAN
METHOD:PUBLISH
X-WR-CALNAME:Lakeway Photography Club
X-ORIGINAL-URL:https://lakewayphotographyclub.com
X-WR-CALDESC:Events for Lakeway Photography Club
REFRESH-INTERVAL;VALUE=DURATION:PT1H
X-Robots-Tag:noindex
X-PUBLISHED-TTL:PT1H
BEGIN:VTIMEZONE
TZID:America/Chicago
BEGIN:DAYLIGHT
TZOFFSETFROM:-0600
TZOFFSETTO:-0500
TZNAME:CDT
DTSTART:20250309T080000
END:DAYLIGHT
BEGIN:STANDARD
TZOFFSETFROM:-0500
TZOFFSETTO:-0600
TZNAME:CST
DTSTART:20251102T070000
END:STANDARD
BEGIN:DAYLIGHT
TZOFFSETFROM:-0600
TZOFFSETTO:-0500
TZNAME:CDT
DTSTART:20260308T080000
END:DAYLIGHT
BEGIN:STANDARD
TZOFFSETFROM:-0500
TZOFFSETTO:-0600
TZNAME:CST
DTSTART:20261101T070000
END:STANDARD
BEGIN:DAYLIGHT
TZOFFSETFROM:-0600
TZOFFSETTO:-0500
TZNAME:CDT
DTSTART:20270314T080000
END:DAYLIGHT
BEGIN:STANDARD
TZOFFSETFROM:-0500
TZOFFSETTO:-0600
TZNAME:CST
DTSTART:20271107T070000
END:STANDARD
END:VTIMEZONE
BEGIN:VEVENT
DTSTART;TZID=America/Chicago:20260427T173000
DTEND;TZID=America/Chicago:20260427T183000
DTSTAMP:20260423T102411
CREATED:20251112T202357Z
LAST-MODIFIED:20260321T181343Z
UID:846-1777311000-1777314600@lakewayphotographyclub.com
SUMMARY:Lakeway Photography Club Meeting
DESCRIPTION:Lakeway Photography Club (LPC) hosts quarterly meetings at the Lake Travis Community Library. The LPC is an informal group of photographers of all ages and experience who are interested in exploring photography as an art medium. We strive to help everyone improve their individual photographic styles\, as well as to learn more about the art and science of both film and digital photography. Our meetings are free and open to the public. \nTopic: Extreme Photography \nGuest Speakers: \n\nMadison Cottey – Antarctica Photographs\nJane Fidanza – Tips for Photographing Pets
URL:https://lakewayphotographyclub.com/event/lakeway-photography-club-meeting-8/
LOCATION:Lake Travis Community Library\, 1938 Lohmans Crossing\, Lakeway\, TX\, 78734\, United States
CATEGORIES:Meeting
ATTACH;FMTTYPE=image/png:https://lakewayphotographyclub.com/wp-content/uploads/2025/11/LPC-Instagram_27Apr2026.avif
ORGANIZER;CN="Lakeway Photography Club":MAILTO:lakewayphotographyclub@gmail.com
END:VEVENT
END:VCALENDAR